Workbook

Sheet Financials

Sheet Historical FS
B2: ="Historical Financial Statement - "&'Data Sheet'!B1 -> Historical Financial Statement - TATA CONSUMER PRODUCTS LTD
B3: Years | C3: ='Data Sheet'!B16 -> 42460 | D3: ='Data Sheet'!C16 -> 42825 | E3: ='Data Sheet'!D16 -> 43190 | F3: ='Data Sheet'!E16 -> 43555 | G3: ='Data Sheet'!F16 -> 43921 | H3: ='Data Sheet'!G16 -> 44286 | I3: ='Data Sheet'!H16 -> 44651 | J3: ='Data Sheet'!I16 -> 45016 | ... L3: ='Data Sheet'!K16 -> 45747 | M3: LTM
A5: # | B5: Income Statement
B6: Sales | C6: =IFERROR('Data Sheet'!B17,0) -> 6636.54 | D6: =IFERROR('Data Sheet'!C17,0) -> 6779.55 | E6: =IFERROR('Data Sheet'!D17,0) -> 6815.35 | F6: =IFERROR('Data Sheet'!E17,0) -> 7251.5 | G6: =IFERROR('Data Sheet'!F17,0) -> 9637.42 | H6: =IFERROR('Data Sheet'!G17,0) -> 11602.03 | I6: =IFERROR('Data Sheet'!H17,0) -> 12425.37 | J6: =IFERROR('Data Sheet'!I17,0) -> 13783.16 | ... L6: =IFERROR('Data Sheet'!K17,0) -> 17618.3 | M6: =IFERROR(SUM('Data Sheet'!H42:K42),0) -> 19465.03
B7: Sales Growth | C7: - | D7: =D6/C6-1 -> 0.021548879 | E7: =E6/D6-1 -> 0.0052805865 | F7: =F6/E6-1 -> 0.063995246 | G7: =G6/F6-1 -> 0.32902434 | H7: =H6/G6-1 -> 0.20385228 | I7: =I6/H6-1 -> 0.070965167 | J7: =J6/I6-1 -> 0.10927562 | K7: =K6/J6-1 -> 0.10321944 | ... M7: =M6/L6-1 -> 0.10481885
B9: COGS | C9: =-IFERROR(SUM('Data Sheet'!B18,'Data Sheet'!B20:B22)-1*'Data Sheet'!B19,0) -> -4698.24 | D9: =-IFERROR(SUM('Data Sheet'!C18,'Data Sheet'!C20:C22)-1*'Data Sheet'!C19,0) -> -4680.71 | E9: =-IFERROR(SUM('Data Sheet'!D18,'Data Sheet'!D20:D22)-1*'Data Sheet'!D19,0) -> -4802.44 | F9: =-IFERROR(SUM('Data Sheet'!E18,'Data Sheet'!E20:E22)-1*'Data Sheet'!E19,0) -> -5112.81 | G9: =-IFERROR(SUM('Data Sheet'!F18,'Data Sheet'!F20:F22)-1*'Data Sheet'!F19,0) -> -6637.79 | H9: =-IFERROR(SUM('Data Sheet'!G18,'Data Sheet'!G20:G22)-1*'Data Sheet'!G19,0) -> -8227.59 | I9: =-IFERROR(SUM('Data Sheet'!H18,'Data Sheet'!H20:H22)-1*'Data Sheet'!H19,0) -> -8594.93 | J9: =-IFERROR(SUM('Data Sheet'!I18,'Data Sheet'!I20:I22)-1*'Data Sheet'!I19,0) -> -9681.17 | ... L9: =-IFERROR(SUM('Data Sheet'!K18,'Data Sheet'!K20:K22)-1*'Data Sheet'!K19,0) -> -12092.75 | M9: =-IFERROR(SUM('Data Sheet'!H43:K43),0) -> -16844.69
B10: COGS as % of Sales | C10: =-C9/C6 -> 0.70793516 | D10: =-D9/D6 -> 0.69041603 | E10: =-E9/E6 -> 0.70465053 | F10: =-F9/F6 -> 0.7050693 | G10: =-G9/G6 -> 0.68875176 | H10: =-H9/H6 -> 0.7091509 | I10: =-I9/I6 -> 0.69172427 | J10: =-J9/J6 -> 0.70239118 | ... M10: =-M9/M6 -> 0.86538218
B12: Gross Profit | C12: =C6+C9 -> 1938.3 | D12: =D6+D9 -> 2098.84 | E12: =E6+E9 -> 2012.91 | F12: =F6+F9 -> 2138.69 | G12: =G6+G9 -> 2999.63 | H12: =H6+H9 -> 3374.44 | I12: =I6+I9 -> 3830.44 | J12: =J6+J9 -> 4101.99 | ... M12: =M6+M9 -> 2620.34
B13: Gross Margin | C13: =C12/C6 -> 0.29206484 | D13: =D12/D6 -> 0.30958397 | E13: =E12/E6 -> 0.29534947 | F13: =F12/F6 -> 0.2949307 | G13: =G12/G6 -> 0.31124824 | H13: =H12/H6 -> 0.2908491 | I13: =I12/I6 -> 0.30827573 | J13: =J12/J6 -> 0.29760882 | ... M13: =M12/M6 -> 0.13461782
B15: Selling & General Expenses | C15: =-IFERROR(SUM('Data Sheet'!B23:B24),0) -> -1572.39 | D15: =-IFERROR(SUM('Data Sheet'!C23:C24),0) -> -1307.71 | E15: =-IFERROR(SUM('Data Sheet'!D23:D24),0) -> -1174 | F15: =-IFERROR(SUM('Data Sheet'!E23:E24),0) -> -1352.78 | G15: =-IFERROR(SUM('Data Sheet'!F23:F24),0) -> -1707.48 | H15: =-IFERROR(SUM('Data Sheet'!G23:G24),0) -> -1830.68 | I15: =-IFERROR(SUM('Data Sheet'!H23:H24),0) -> -2111.66 | J15: =-IFERROR(SUM('Data Sheet'!I23:I24),0) -> -2245.52 | ... L15: =-IFERROR(SUM('Data Sheet'!K23:K24),0) -> -3046.2
B16: S&G Expenses as a % of Sales | C16: =-C15/C6 -> 0.23692918 | D16: =-D15/D6 -> 0.19289038 | E16: =-E15/E6 -> 0.17225821 | F16: =-F15/F6 -> 0.18655175 | G16: =-G15/G6 -> 0.1771719 | H16: =-H15/H6 -> 0.15778963 | I16: =-I15/I6 -> 0.16994745 | J16: =-J15/J6 -> 0.16291765 | ... L16: =-L15/L6 -> 0.17289977
B18: EBITDA | C18: =C12+C15 -> 365.91 | D18: =D12+D15 -> 791.13 | E18: =E12+E15 -> 838.91 | F18: =F12+F15 -> 785.91 | G18: =G12+G15 -> 1292.15 | H18: =H12+H15 -> 1543.76 | I18: =I12+I15 -> 1718.78 | J18: =J12+J15 -> 1856.47 | ... L18: =L12+L15 -> 2479.35 | M18: =IFERROR(SUM('Data Sheet'!H51:K51),0) -> 27983.82
B19: EBITDA as a % of Sales | C19: =C18/C6 -> 0.055135658 | D19: =D18/D6 -> 0.11669359 | E19: =E18/E6 -> 0.12309126 | F19: =F18/F6 -> 0.10837896 | G19: =G18/G6 -> 0.13407634 | H19: =H18/H6 -> 0.13305947 | I19: =I18/I6 -> 0.13832828 | J19: =J18/J6 -> 0.13469117 | ... M19: =M18/M6 -> 1.4376459
B21: Interest | C21: =-IFERROR('Data Sheet'!B27,0) -> -116.9 | D21: =-IFERROR('Data Sheet'!C27,0) -> -91.53 | E21: =-IFERROR('Data Sheet'!D27,0) -> -42.76 | F21: =-IFERROR('Data Sheet'!E27,0) -> -52.47 | G21: =-IFERROR('Data Sheet'!F27,0) -> -77.86 | H21: =-IFERROR('Data Sheet'!G27,0) -> -68.69 | I21: =-IFERROR('Data Sheet'!H27,0) -> -72.78 | J21: =-IFERROR('Data Sheet'!I27,0) -> -87.16 | ... L21: =-IFERROR('Data Sheet'!K27,0) -> -290.2 | M21: =-IFERROR(SUM('Data Sheet'!H46:K46),0) -> -138.6
B22: Interest as a % of Sales | C22: =-C21/C6 -> 0.0176146 | D22: =-D21/D6 -> 0.013500896 | E22: =-E21/E6 -> 0.0062740725 | F22: =-F21/F6 -> 0.0072357443 | G22: =-G21/G6 -> 0.0080789257 | H22: =-H21/H6 -> 0.0059205156 | I22: =-I21/I6 -> 0.0058573708 | J22: =-J21/J6 -> 0.0063236587 | ... M22: =-M21/M6 -> 0.0071204617
B24: Depreciation | C24: =-IFERROR('Data Sheet'!B26,0) -> -116.79 | D24: =-IFERROR('Data Sheet'!C26,0) -> -126.04 | E24: =-IFERROR('Data Sheet'!D26,0) -> -116.04 | F24: =-IFERROR('Data Sheet'!E26,0) -> -122.57 | G24: =-IFERROR('Data Sheet'!F26,0) -> -241.71 | H24: =-IFERROR('Data Sheet'!G26,0) -> -254.74 | I24: =-IFERROR('Data Sheet'!H26,0) -> -278.01 | J24: =-IFERROR('Data Sheet'!I26,0) -> -304.08 | ... L24: =-IFERROR('Data Sheet'!K26,0) -> -600.74 | M24: =-IFERROR(SUM('Data Sheet'!H45:K45),0) -> -614.59
B25: Depreciation as a % of Sales | C25: =-C24/C6 -> 0.017598025 | D25: =-D24/D6 -> 0.018591204 | E25: =-E24/E6 -> 0.017026272 | F25: =-F24/F6 -> 0.01690271 | G25: =-G24/G6 -> 0.025080364 | H25: =-H24/H6 -> 0.021956502 | I25: =-I24/I6 -> 0.022374384 | J25: =-J24/J6 -> 0.022061704 | ... M25: =-M24/M6 -> 0.031574059
B27: Earnings Before Tax | C27: =IFERROR(SUM(C18,C21,C24),0) -> 132.22 | D27: =IFERROR(SUM(D18,D21,D24),0) -> 573.56 | E27: =IFERROR(SUM(E18,E21,E24),0) -> 680.11 | F27: =IFERROR(SUM(F18,F21,F24),0) -> 610.87 | G27: =IFERROR(SUM(G18,G21,G24),0) -> 972.58 | H27: =IFERROR(SUM(H18,H21,H24),0) -> 1220.33 | I27: =IFERROR(SUM(I18,I21,I24),0) -> 1367.99 | J27: =IFERROR(SUM(J18,J21,J24),0) -> 1465.23 | ... M27: =IFERROR(SUM(M18,M21,M24),0) -> 27230.63
B28: EBT as a % of Sales | C28: =C27/C6 -> 0.019923032 | D28: =D27/D6 -> 0.084601485 | E28: =E27/E6 -> 0.099790913 | F28: =F27/F6 -> 0.084240502 | G28: =G27/G6 -> 0.10091705 | H28: =H27/H6 -> 0.10518246 | I28: =I27/I6 -> 0.11009652 | J28: =J27/J6 -> 0.10630581 | ... M28: =M27/M6 -> 1.3989514
B30: Tax | C30: =-IFERROR('Data Sheet'!B29,0) -> -200.01 | D30: =-IFERROR('Data Sheet'!C29,0) -> -198.31 | E30: =-IFERROR('Data Sheet'!D29,0) -> -185.87 | F30: =-IFERROR('Data Sheet'!E29,0) -> -260.88 | G30: =-IFERROR('Data Sheet'!F29,0) -> -274.19 | H30: =-IFERROR('Data Sheet'!G29,0) -> -317.27 | I30: =-IFERROR('Data Sheet'!H29,0) -> -377.04 | J30: =-IFERROR('Data Sheet'!I29,0) -> -447.04 | ... L30: =-IFERROR('Data Sheet'!K29,0) -> -396.24 | M30: =-IFERROR(SUM('Data Sheet'!H48:K48),0) -> -504.96
B31: Effective Tax Rate | C31: =-C30/C27 -> 1.5127061 | D31: =-D30/D27 -> 0.34575284 | E31: =-E30/E27 -> 0.27329403 | F31: =-F30/F27 -> 0.42706304 | G31: =-G30/G27 -> 0.28192025 | H31: =-H30/H27 -> 0.25998705 | I31: =-I30/I27 -> 0.27561605 | J31: =-J30/J27 -> 0.30509886 | ... M31: =-M30/M27 -> 0.018543824
B33: Net Income | C33: =C27+C30 -> -67.79 | D33: =D27+D30 -> 375.25 | E33: =E27+E30 -> 494.24 | F33: =F27+F30 -> 349.99 | G33: =G27+G30 -> 698.39 | H33: =H27+H30 -> 903.06 | I33: =I27+I30 -> 990.95 | J33: =J27+J30 -> 1018.19 | ... M33: =M27+M30 -> 26725.67
B34: Net Margin | C34: =C33/C6 -> -0.01021466 | D34: =D33/D6 -> 0.055350281 | E34: =E33/E6 -> 0.072518653 | F34: =F33/F6 -> 0.048264497 | G34: =G33/G6 -> 0.07246649 | H34: =H33/H6 -> 0.077836379 | I34: =I33/I6 -> 0.079752152 | J34: =J33/J6 -> 0.073872029 | ... M34: =M33/M6 -> 1.3730094
B36: Equity Shares Outstanding | C36: =IFERROR('Data Sheet'!B93,0) -> 65.54 | D36: =IFERROR('Data Sheet'!C93,0) -> 65.54 | E36: =IFERROR('Data Sheet'!D93,0) -> 65.54 | F36: =IFERROR('Data Sheet'!E93,0) -> 65.54 | G36: =IFERROR('Data Sheet'!F93,0) -> 95.7 | H36: =IFERROR('Data Sheet'!G93,0) -> 95.7 | I36: =IFERROR('Data Sheet'!H93,0) -> 95.7 | J36: =IFERROR('Data Sheet'!I93,0) -> 96.47 | ... L36: =IFERROR('Data Sheet'!K93,0) -> 98.95 | M36: =L36 -> 98.95
B38: Earnings Per Share | C38: =IFERROR(C33/C36,0) -> -1.0343302 | D38: =IFERROR(D33/D36,0) -> 5.7255111 | E38: =IFERROR(E33/E36,0) -> 7.5410436 | F38: =IFERROR(F33/F36,0) -> 5.3400977 | G38: =IFERROR(G33/G36,0) -> 7.2977011 | H38: =IFERROR(H33/H36,0) -> 9.4363636 | I38: =IFERROR(I33/I36,0) -> 10.354754 | J38: =IFERROR(J33/J36,0) -> 10.554473 | ... M38: =IFERROR(M33/M36,0) -> 270.09267
B39: EPS Growth % | D39: =IFERROR((D38-C38)/C38,0) -> -6.5354772 | E39: =IFERROR((E38-D38)/D38,0) -> 0.31709527 | F39: =IFERROR((F38-E38)/E38,0) -> -0.29186225 | G39: =IFERROR((G38-F38)/F38,0) -> 0.36658571 | H39: =IFERROR((H38-G38)/G38,0) -> 0.29305975 | I39: =IFERROR((I38-H38)/H38,0) -> 0.097324652 | J39: =IFERROR((J38-I38)/I38,0) -> 0.019287609 | K39: =IFERROR((K38-J38)/J38,0) -> 0.32368461 | ... M39: =IFERROR((M38-L38)/L38,0) -> 21.417667
B41: Dividends Per Share | C41: =IFERROR('Data Sheet'!B31/'Historical FS'!C36,0) -> 2.1666158 | D41: =IFERROR('Data Sheet'!C31/'Historical FS'!D36,0) -> 2.2628929 | E41: =IFERROR('Data Sheet'!D31/'Historical FS'!E36,0) -> 2.2628929 | F41: =IFERROR('Data Sheet'!E31/'Historical FS'!F36,0) -> 2.4073848 | G41: =IFERROR('Data Sheet'!F31/'Historical FS'!G36,0) -> 2.6001045 | H41: =IFERROR('Data Sheet'!G31/'Historical FS'!H36,0) -> 3.900209 | I41: =IFERROR('Data Sheet'!H31/'Historical FS'!I36,0) -> 5.8262278 | J41: =IFERROR('Data Sheet'!I31/'Historical FS'!J36,0) -> 8.1372447 | ... M41: =IFERROR('Data Sheet'!L31/'Historical FS'!M36,0) -> 0
B42: Dividend Payout Ratio | C42: =IFERROR(C41/C38,0) -> -2.0947042 | D42: =IFERROR(D41/D38,0) -> 0.39522985 | E42: =IFERROR(E41/E38,0) -> 0.30007689 | F42: =IFERROR(F41/F38,0) -> 0.45081288 | G42: =IFERROR(G41/G38,0) -> 0.3562909 | H42: =IFERROR(H41/H38,0) -> 0.41331694 | I42: =IFERROR(I41/I38,0) -> 0.56266209 | J42: =IFERROR(J41/J38,0) -> 0.77097595 | ... M42: =IFERROR(M41/M38,0) -> 0
B44: Retained Earnings | C44: =IFERROR(IF(C38>C41,1-C42,0),0) -> 0 | D44: =IFERROR(IF(D38>D41,1-D42,0),0) -> 0.60477015 | E44: =IFERROR(IF(E38>E41,1-E42,0),0) -> 0.69992311 | F44: =IFERROR(IF(F38>F41,1-F42,0),0) -> 0.54918712 | G44: =IFERROR(IF(G38>G41,1-G42,0),0) -> 0.6437091 | H44: =IFERROR(IF(H38>H41,1-H42,0),0) -> 0.58668306 | I44: =IFERROR(IF(I38>I41,1-I42,0),0) -> 0.43733791 | J44: =IFERROR(IF(J38>J41,1-J42,0),0) -> 0.22902405 | ... M44: =IFERROR(IF(M38>M41,1-M42,0),0) -> 1
A46: # | B46: BALANCE SHEET
B47: Report Date
B48: Equity Share Capital | C48: =IFERROR('Data Sheet'!B57,0) -> 63.11 | D48: =IFERROR('Data Sheet'!C57,0) -> 63.11 | E48: =IFERROR('Data Sheet'!D57,0) -> 63.11 | F48: =IFERROR('Data Sheet'!E57,0) -> 63.11 | G48: =IFERROR('Data Sheet'!F57,0) -> 92.16 | H48: =IFERROR('Data Sheet'!G57,0) -> 92.16 | I48: =IFERROR('Data Sheet'!H57,0) -> 92.16 | J48: =IFERROR('Data Sheet'!I57,0) -> 92.9 | ... L48: =IFERROR('Data Sheet'!K57,0) -> 98.95
B49: Reserves | C49: =IFERROR('Data Sheet'!B58,0) -> 6184.06 | D49: =IFERROR('Data Sheet'!C58,0) -> 6202.39 | E49: =IFERROR('Data Sheet'!D58,0) -> 6968.49 | F49: =IFERROR('Data Sheet'!E58,0) -> 7268.58 | G49: =IFERROR('Data Sheet'!F58,0) -> 13722.7 | H49: =IFERROR('Data Sheet'!G58,0) -> 14442.35 | I49: =IFERROR('Data Sheet'!H58,0) -> 15049.78 | J49: =IFERROR('Data Sheet'!I58,0) -> 16183.81 | ... L49: =IFERROR('Data Sheet'!K58,0) -> 19902.13
B50: Borrowings | C50: =IFERROR('Data Sheet'!B59,0) -> 1354.05 | D50: =IFERROR('Data Sheet'!C59,0) -> 786.56 | E50: =IFERROR('Data Sheet'!D59,0) -> 1067.58 | F50: =IFERROR('Data Sheet'!E59,0) -> 1141.1 | G50: =IFERROR('Data Sheet'!F59,0) -> 1586.32 | H50: =IFERROR('Data Sheet'!G59,0) -> 1633.55 | I50: =IFERROR('Data Sheet'!H59,0) -> 1412.01 | J50: =IFERROR('Data Sheet'!I59,0) -> 1600.04 | ... L50: =IFERROR('Data Sheet'!K59,0) -> 2392.68
B51: Other Liabilities | C51: =IFERROR('Data Sheet'!B60,0) -> 2293.54 | D51: =IFERROR('Data Sheet'!C60,0) -> 2499.35 | E51: =IFERROR('Data Sheet'!D60,0) -> 2361.58 | F51: =IFERROR('Data Sheet'!E60,0) -> 2407.89 | G51: =IFERROR('Data Sheet'!F60,0) -> 3071.86 | H51: =IFERROR('Data Sheet'!G60,0) -> 4049.76 | I51: =IFERROR('Data Sheet'!H60,0) -> 4520.92 | J51: =IFERROR('Data Sheet'!I60,0) -> 4885.74 | ... L51: =IFERROR('Data Sheet'!K60,0) -> 9436.86
B52: Total Liabilities | C52: =IFERROR('Data Sheet'!B61,0) -> 9894.76 | D52: =IFERROR('Data Sheet'!C61,0) -> 9551.41 | E52: =IFERROR('Data Sheet'!D61,0) -> 10460.76 | F52: =IFERROR('Data Sheet'!E61,0) -> 10880.68 | G52: =IFERROR('Data Sheet'!F61,0) -> 18473.04 | H52: =IFERROR('Data Sheet'!G61,0) -> 20217.82 | I52: =IFERROR('Data Sheet'!H61,0) -> 21074.87 | J52: =IFERROR('Data Sheet'!I61,0) -> 22762.49 | ... L52: =IFERROR('Data Sheet'!K61,0) -> 31830.62
B54: Fixed Capital Net Block | C54: =IFERROR('Data Sheet'!B62,0) -> 4661.8 | D54: =IFERROR('Data Sheet'!C62,0) -> 4572.59 | E54: =IFERROR('Data Sheet'!D62,0) -> 4798.18 | F54: =IFERROR('Data Sheet'!E62,0) -> 4913.31 | G54: =IFERROR('Data Sheet'!F62,0) -> 11656.04 | H54: =IFERROR('Data Sheet'!G62,0) -> 12023.13 | I54: =IFERROR('Data Sheet'!H62,0) -> 12599.35 | J54: =IFERROR('Data Sheet'!I62,0) -> 13070.04 | ... L54: =IFERROR('Data Sheet'!K62,0) -> 21476.84
B55: Capital Work in Progress | C55: =IFERROR('Data Sheet'!B63,0) -> 39.42 | D55: =IFERROR('Data Sheet'!C63,0) -> 63.19 | E55: =IFERROR('Data Sheet'!D63,0) -> 135.16 | F55: =IFERROR('Data Sheet'!E63,0) -> 424.41 | G55: =IFERROR('Data Sheet'!F63,0) -> 95.35 | H55: =IFERROR('Data Sheet'!G63,0) -> 112.85 | I55: =IFERROR('Data Sheet'!H63,0) -> 246.97 | J55: =IFERROR('Data Sheet'!I63,0) -> 294.9 | ... L55: =IFERROR('Data Sheet'!K63,0) -> 218.1
B56: Investments | C56: =IFERROR('Data Sheet'!B64,0) -> 1365.94 | D56: =IFERROR('Data Sheet'!C64,0) -> 1451.04 | E56: =IFERROR('Data Sheet'!D64,0) -> 1161.33 | F56: =IFERROR('Data Sheet'!E64,0) -> 1187.66 | G56: =IFERROR('Data Sheet'!F64,0) -> 1322.85 | H56: =IFERROR('Data Sheet'!G64,0) -> 805.89 | I56: =IFERROR('Data Sheet'!H64,0) -> 797.28 | J56: =IFERROR('Data Sheet'!I64,0) -> 1432.97 | ... L56: =IFERROR('Data Sheet'!K64,0) -> 968.67
B57: Other Assets | C57: =IFERROR('Data Sheet'!B65-SUM('Data Sheet'!B67:B69),0) -> 1105.13 | D57: =IFERROR('Data Sheet'!C65-SUM('Data Sheet'!C67:C69),0) -> 844.36 | E57: =IFERROR('Data Sheet'!D65-SUM('Data Sheet'!D67:D69),0) -> 1031.36 | F57: =IFERROR('Data Sheet'!E65-SUM('Data Sheet'!E67:E69),0) -> 1032.6 | G57: =IFERROR('Data Sheet'!F65-SUM('Data Sheet'!F67:F69),0) -> 1142.9 | H57: =IFERROR('Data Sheet'!G65-SUM('Data Sheet'!G67:G69),0) -> 1190.59 | I57: =IFERROR('Data Sheet'!H65-SUM('Data Sheet'!H67:H69),0) -> 1729.72 | J57: =IFERROR('Data Sheet'!I65-SUM('Data Sheet'!I67:I69),0) -> 1667.64 | ... L57: =IFERROR('Data Sheet'!K65-SUM('Data Sheet'!K67:K69),0) -> 1879.45
...

Sheet Ratio Analysis
B2: ="Ratio Analysis - "&'Data Sheet'!B1 -> Ratio Analysis - TATA CONSUMER PRODUCTS LTD
B3: Years | C3: ='Data Sheet'!B16 -> 42460 | D3: ='Data Sheet'!C16 -> 42825 | E3: ='Data Sheet'!D16 -> 43190 | F3: ='Data Sheet'!E16 -> 43555 | G3: ='Data Sheet'!F16 -> 43921 | H3: ='Data Sheet'!G16 -> 44286 | I3: ='Data Sheet'!H16 -> 44651 | J3: ='Data Sheet'!I16 -> 45016 | ... L3: ='Data Sheet'!K16 -> 45747 | M3: Trend | N3: Mean | O3: Median
B5: SalesGrowth | C5: =IFERROR('Historical FS'!C7,0) -> - | D5: =IFERROR('Historical FS'!D7,0) -> 0.021548879 | E5: =IFERROR('Historical FS'!E7,0) -> 0.0052805865 | F5: =IFERROR('Historical FS'!F7,0) -> 0.063995246 | G5: =IFERROR('Historical FS'!G7,0) -> 0.32902434 | H5: =IFERROR('Historical FS'!H7,0) -> 0.20385228 | I5: =IFERROR('Historical FS'!I7,0) -> 0.070965167 | J5: =IFERROR('Historical FS'!J7,0) -> 0.10927562 | ... L5: =IFERROR('Historical FS'!L7,0) -> 0.15865276 | N5: =IFERROR(AVERAGE(D5:L5),0) -> 0.11842381 | O5: =IFERROR(MEDIAN(D5:L5),0) -> 0.10321944
B6: EBITDA Growth | C6: - | D6: =IFERROR('Historical FS'!D18/'Historical FS'!C18-1,0) -> 1.162089 | E6: =IFERROR('Historical FS'!E18/'Historical FS'!D18-1,0) -> 0.060394625 | F6: =IFERROR('Historical FS'!F18/'Historical FS'!E18-1,0) -> -0.063177218 | G6: =IFERROR('Historical FS'!G18/'Historical FS'!F18-1,0) -> 0.644145 | H6: =IFERROR('Historical FS'!H18/'Historical FS'!G18-1,0) -> 0.19472198 | I6: =IFERROR('Historical FS'!I18/'Historical FS'!H18-1,0) -> 0.11337254 | J6: =IFERROR('Historical FS'!J18/'Historical FS'!I18-1,0) -> 0.080109147 | K6: =IFERROR('Historical FS'!K18/'Historical FS'!J18-1,0) -> 0.23034576 | L6: =IFERROR('Historical FS'!L18/'Historical FS'!K18-1,0) -> 0.085482247 | N6: =IFERROR(AVERAGE(D6:L6),0) -> 0.27860924 | O6: =IFERROR(MEDIAN(D6:L6),0) -> 0.11337254
B7: EBT Growth | C7: - | D7: =IFERROR('Historical FS'!D27/'Historical FS'!C27-1,0) -> 3.3379216 | E7: =IFERROR('Historical FS'!E27/'Historical FS'!D27-1,0) -> 0.18576958 | F7: =IFERROR('Historical FS'!F27/'Historical FS'!E27-1,0) -> -0.10180706 | G7: =IFERROR('Historical FS'!G27/'Historical FS'!F27-1,0) -> 0.59212271 | H7: =IFERROR('Historical FS'!H27/'Historical FS'!G27-1,0) -> 0.25473483 | I7: =IFERROR('Historical FS'!I27/'Historical FS'!H27-1,0) -> 0.12100006 | J7: =IFERROR('Historical FS'!J27/'Historical FS'!I27-1,0) -> 0.071082391 | K7: =IFERROR('Historical FS'!K27/'Historical FS'!J27-1,0) -> 0.21287443 | L7: =IFERROR('Historical FS'!L27/'Historical FS'!K27-1,0) -> -0.10619872 | N7: =IFERROR(AVERAGE(D7:L7),0) -> 0.50749998 | O7: =IFERROR(MEDIAN(D7:L7),0) -> 0.18576958
B8: Net Profit Growth | C8: - | D8: =IFERROR('Historical FS'!D33/'Historical FS'!C33-1,0) -> -6.5354772 | E8: =IFERROR('Historical FS'!E33/'Historical FS'!D33-1,0) -> 0.31709527 | F8: =IFERROR('Historical FS'!F33/'Historical FS'!E33-1,0) -> -0.29186225 | G8: =IFERROR('Historical FS'!G33/'Historical FS'!F33-1,0) -> 0.99545701 | H8: =IFERROR('Historical FS'!H33/'Historical FS'!G33-1,0) -> 0.29305975 | I8: =IFERROR('Historical FS'!I33/'Historical FS'!H33-1,0) -> 0.097324652 | J8: =IFERROR('Historical FS'!J33/'Historical FS'!I33-1,0) -> 0.027488773 | K8: =IFERROR('Historical FS'!K33/'Historical FS'!J33-1,0) -> 0.3577132 | L8: =IFERROR('Historical FS'!L33/'Historical FS'!K33-1,0) -> -0.13761475 | N8: =IFERROR(AVERAGE(D8:L8),0) -> -0.54186839 | O8: =IFERROR(MEDIAN(D8:L8),0) -> 0.097324652
B9: Dividend Growth | C9: - | D9: =IFERROR('Historical FS'!D41/'Historical FS'!C41-1,0) -> 0.04443662 | E9: =IFERROR('Historical FS'!E41/'Historical FS'!D41-1,0) -> 0 | F9: =IFERROR('Historical FS'!F41/'Historical FS'!E41-1,0) -> 0.063852741 | G9: =IFERROR('Historical FS'!G41/'Historical FS'!F41-1,0) -> 0.080053546 | H9: =IFERROR('Historical FS'!H41/'Historical FS'!G41-1,0) -> 0.50002009 | I9: =IFERROR('Historical FS'!I41/'Historical FS'!H41-1,0) -> 0.49382451 | J9: =IFERROR('Historical FS'!J41/'Historical FS'!I41-1,0) -> 0.3966575 | K9: =IFERROR('Historical FS'!K41/'Historical FS'!J41-1,0) -> -0.082913555 | L9: =IFERROR('Historical FS'!L41/'Historical FS'!K41-1,0) -> 0.1055226 | N9: =IFERROR(AVERAGE(D9:L9),0) -> 0.17793934 | O9: =IFERROR(MEDIAN(D9:L9),0) -> 0.080053546
B11: Gross Margin | C11: =IFERROR('Historical FS'!C13,0) -> 0.29206484 | D11: =IFERROR('Historical FS'!D13,0) -> 0.30958397 | E11: =IFERROR('Historical FS'!E13,0) -> 0.29534947 | F11: =IFERROR('Historical FS'!F13,0) -> 0.2949307 | G11: =IFERROR('Historical FS'!G13,0) -> 0.31124824 | H11: =IFERROR('Historical FS'!H13,0) -> 0.2908491 | I11: =IFERROR('Historical FS'!I13,0) -> 0.30827573 | J11: =IFERROR('Historical FS'!J13,0) -> 0.29760882 | ... L11: =IFERROR('Historical FS'!L13,0) -> 0.31362561 | N11: =IFERROR(AVERAGE(C11:L11),0) -> 0.30325992 | O11: =IFERROR(MEDIAN(C11:L11),0) -> 0.30294228
B12: EBITDA Margin | C12: =IFERROR('Historical FS'!C19,0) -> 0.055135658 | D12: =IFERROR('Historical FS'!D19,0) -> 0.11669359 | E12: =IFERROR('Historical FS'!E19,0) -> 0.12309126 | F12: =IFERROR('Historical FS'!F19,0) -> 0.10837896 | G12: =IFERROR('Historical FS'!G19,0) -> 0.13407634 | H12: =IFERROR('Historical FS'!H19,0) -> 0.13305947 | I12: =IFERROR('Historical FS'!I19,0) -> 0.13832828 | J12: =IFERROR('Historical FS'!J19,0) -> 0.13469117 | ... L12: =IFERROR('Historical FS'!L19,0) -> 0.14072584 | N12: =IFERROR(AVERAGE(C12:L12),0) -> 0.12343925 | O12: =IFERROR(MEDIAN(C12:L12),0) -> 0.13356791
B13: EBIT Margin | C13: =IFERROR(SUM('Historical FS'!C18+'Historical FS'!C24)/'Historical FS'!C6,0) -> 0.037537633 | D13: =IFERROR(SUM('Historical FS'!D18+'Historical FS'!D24)/'Historical FS'!D6,0) -> 0.098102381 | E13: =IFERROR(SUM('Historical FS'!E18+'Historical FS'!E24)/'Historical FS'!E6,0) -> 0.10606499 | F13: =IFERROR(SUM('Historical FS'!F18+'Historical FS'!F24)/'Historical FS'!F6,0) -> 0.091476246 | G13: =IFERROR(SUM('Historical FS'!G18+'Historical FS'!G24)/'Historical FS'!G6,0) -> 0.10899598 | H13: =IFERROR(SUM('Historical FS'!H18+'Historical FS'!H24)/'Historical FS'!H6,0) -> 0.11110297 | I13: =IFERROR(SUM('Historical FS'!I18+'Historical FS'!I24)/'Historical FS'!I6,0) -> 0.11595389 | J13: =IFERROR(SUM('Historical FS'!J18+'Historical FS'!J24)/'Historical FS'!J6,0) -> 0.11262947 | ... L13: =IFERROR(SUM('Historical FS'!L18+'Historical FS'!L24)/'Historical FS'!L6,0) -> 0.10662834 | N13: =IFERROR(AVERAGE(C13:L13),0) -> 0.10139009 | O13: =IFERROR(MEDIAN(C13:L13),0) -> 0.10781216
B14: EBT Margin | C14: =IFERROR('Historical FS'!C28,0) -> 0.019923032 | D14: =IFERROR('Historical FS'!D28,0) -> 0.084601485 | E14: =IFERROR('Historical FS'!E28,0) -> 0.099790913 | F14: =IFERROR('Historical FS'!F28,0) -> 0.084240502 | G14: =IFERROR('Historical FS'!G28,0) -> 0.10091705 | H14: =IFERROR('Historical FS'!H28,0) -> 0.10518246 | I14: =IFERROR('Historical FS'!I28,0) -> 0.11009652 | J14: =IFERROR('Historical FS'!J28,0) -> 0.10630581 | ... L14: =IFERROR('Historical FS'!L28,0) -> 0.090156826 | N14: =IFERROR(AVERAGE(C14:L14),0) -> 0.091808672 | O14: =IFERROR(MEDIAN(C14:L14),0) -> 0.10035398
B15: Net Profit Margin | C15: =IFERROR('Historical FS'!C34,0) -> -0.01021466 | D15: =IFERROR('Historical FS'!D34,0) -> 0.055350281 | E15: =IFERROR('Historical FS'!E34,0) -> 0.072518653 | F15: =IFERROR('Historical FS'!F34,0) -> 0.048264497 | G15: =IFERROR('Historical FS'!G34,0) -> 0.07246649 | H15: =IFERROR('Historical FS'!H34,0) -> 0.077836379 | I15: =IFERROR('Historical FS'!I34,0) -> 0.079752152 | J15: =IFERROR('Historical FS'!J34,0) -> 0.073872029 | ... L15: =IFERROR('Historical FS'!L34,0) -> 0.067666574 | N15: =IFERROR(AVERAGE(C15:L15),0) -> 0.062842543 | O15: =IFERROR(MEDIAN(C15:L15),0) -> 0.072492571
B17: SalesExpenses%Sales | C17: =IFERROR('Historical FS'!C16,0) -> 0.23692918 | D17: =IFERROR('Historical FS'!D16,0) -> 0.19289038 | E17: =IFERROR('Historical FS'!E16,0) -> 0.17225821 | F17: =IFERROR('Historical FS'!F16,0) -> 0.18655175 | G17: =IFERROR('Historical FS'!G16,0) -> 0.1771719 | H17: =IFERROR('Historical FS'!H16,0) -> 0.15778963 | I17: =IFERROR('Historical FS'!I16,0) -> 0.16994745 | J17: =IFERROR('Historical FS'!J16,0) -> 0.16291765 | ... L17: =IFERROR('Historical FS'!L16,0) -> 0.17289977 | N17: =IFERROR(AVERAGE(C17:L17),0) -> 0.17982067 | O17: =IFERROR(MEDIAN(C17:L17),0) -> 0.17257899
B18: Depreciation%Sales | C18: =IFERROR('Historical FS'!C25,0) -> 0.017598025 | D18: =IFERROR('Historical FS'!D25,0) -> 0.018591204 | E18: =IFERROR('Historical FS'!E25,0) -> 0.017026272 | F18: =IFERROR('Historical FS'!F25,0) -> 0.01690271 | G18: =IFERROR('Historical FS'!G25,0) -> 0.025080364 | H18: =IFERROR('Historical FS'!H25,0) -> 0.021956502 | I18: =IFERROR('Historical FS'!I25,0) -> 0.022374384 | J18: =IFERROR('Historical FS'!J25,0) -> 0.022061704 | ... L18: =IFERROR('Historical FS'!L25,0) -> 0.034097501 | N18: =IFERROR(AVERAGE(C18:L18),0) -> 0.022049162 | O18: =IFERROR(MEDIAN(C18:L18),0) -> 0.022009103
B19: OperatingIncome%Sales | C19: =C13 -> 0.037537633 | D19: =D13 -> 0.098102381 | E19: =E13 -> 0.10606499 | F19: =F13 -> 0.091476246 | G19: =G13 -> 0.10899598 | H19: =H13 -> 0.11110297 | I19: =I13 -> 0.11595389 | J19: =J13 -> 0.11262947 | ... L19: =L13 -> 0.10662834 | N19: =IFERROR(AVERAGE(C19:L19),0) -> 0.10139009 | O19: =IFERROR(MEDIAN(C19:L19),0) -> 0.10781216
B21: Return on Capital Employed | C21: =IFERROR(('Historical FS'!C18+'Historical FS'!C24)/(SUM('Historical FS'!C48:C50)),0) -> 0.032773686 | D21: =IFERROR(('Historical FS'!D18+'Historical FS'!D24)/(SUM('Historical FS'!D48:D50)),0) -> 0.094311449 | E21: =IFERROR(('Historical FS'!E18+'Historical FS'!E24)/(SUM('Historical FS'!E48:E50)),0) -> 0.089252245 | F21: =IFERROR(('Historical FS'!F18+'Historical FS'!F24)/(SUM('Historical FS'!F48:F50)),0) -> 0.078290622 | G21: =IFERROR(('Historical FS'!G18+'Historical FS'!G24)/(SUM('Historical FS'!G48:G50)),0) -> 0.068205164 | H21: =IFERROR(('Historical FS'!H18+'Historical FS'!H24)/(SUM('Historical FS'!H48:H50)),0) -> 0.079726325 | I21: =IFERROR(('Historical FS'!I18+'Historical FS'!I24)/(SUM('Historical FS'!I48:I50)),0) -> 0.087034816 | J21: =IFERROR(('Historical FS'!J18+'Historical FS'!J24)/(SUM('Historical FS'!J48:J50)),0) -> 0.086838491 | ... L21: =IFERROR(('Historical FS'!L18+'Historical FS'!L24)/(SUM('Historical FS'!L48:L50)),0) -> 0.083889887 | N21: =IFERROR(AVERAGE(C21:L21),0) -> 0.079794473 | O21: =IFERROR(MEDIAN(C21:L21),0) -> 0.085364189
B22: Retained Earnings% | C22: =IFERROR('Historical FS'!C44,0) -> 0 | D22: =IFERROR('Historical FS'!D44,0) -> 0.60477015 | E22: =IFERROR('Historical FS'!E44,0) -> 0.69992311 | F22: =IFERROR('Historical FS'!F44,0) -> 0.54918712 | G22: =IFERROR('Historical FS'!G44,0) -> 0.6437091 | H22: =IFERROR('Historical FS'!H44,0) -> 0.58668306 | I22: =IFERROR('Historical FS'!I44,0) -> 0.43733791 | J22: =IFERROR('Historical FS'!J44,0) -> 0.22902405 | ... L22: =IFERROR('Historical FS'!L44,0) -> 0.31524866 | N22: =IFERROR(AVERAGE(C22:L22),0) -> 0.4531729 | O22: =IFERROR(MEDIAN(C22:L22),0) -> 0.5075165
B23: Return on Equity% | C23: =IFERROR(('Historical FS'!C33)/SUM('Historical FS'!C48:C49),0) -> -0.010851313 | D23: =IFERROR(('Historical FS'!D33)/SUM('Historical FS'!D48:D49),0) -> 0.059891469 | E23: =IFERROR(('Historical FS'!E33)/SUM('Historical FS'!E48:E49),0) -> 0.070288412 | F23: =IFERROR(('Historical FS'!F33)/SUM('Historical FS'!F48:F49),0) -> 0.047736606 | G23: =IFERROR(('Historical FS'!G33)/SUM('Historical FS'!G48:G49),0) -> 0.050553534 | H23: =IFERROR(('Historical FS'!H33)/SUM('Historical FS'!H48:H49),0) -> 0.062132126 | I23: =IFERROR(('Historical FS'!I33)/SUM('Historical FS'!I48:I49),0) -> 0.065444058 | J23: =IFERROR(('Historical FS'!J33)/SUM('Historical FS'!J48:J49),0) -> 0.062555025 | ... L23: =IFERROR(('Historical FS'!L33)/SUM('Historical FS'!L48:L49),0) -> 0.059605281 | N23: =IFERROR(AVERAGE(C23:L23),0) -> 0.055345024 | O23: =IFERROR(MEDIAN(C23:L23),0) -> 0.061011797
B24: Self Sustained Growth Rate | C24: =IFERROR((C22*C23),0) -> 0 | D24: =IFERROR((D22*D23),0) -> 0.036220573 | E24: =IFERROR((E22*E23),0) -> 0.049196484 | F24: =IFERROR((F22*F23),0) -> 0.026216329 | G24: =IFERROR((G22*G23),0) -> 0.03254177 | H24: =IFERROR((H22*H23),0) -> 0.036451865 | I24: =IFERROR((I22*I23),0) -> 0.028621167 | J24: =IFERROR((J22*J23),0) -> 0.014326605 | ... L24: =IFERROR((L22*L23),0) -> 0.018790485 | N24: =IFERROR(AVERAGE(C24:L24),0) -> 0.02824723 | O24: =IFERROR(MEDIAN(C24:L24),0) -> 0.030581469
B25: Interest Coverage Ratio | C25: =IFERROR((SUM('Historical FS'!C18,'Historical FS'!C24)/-'Historical FS'!C21),0) -> 2.1310522 | D25: =IFERROR((SUM('Historical FS'!D18,'Historical FS'!D24)/-'Historical FS'!D21),0) -> 7.2663608 | E25: =IFERROR((SUM('Historical FS'!E18,'Historical FS'!E24)/-'Historical FS'!E21),0) -> 16.905285 | F25: =IFERROR((SUM('Historical FS'!F18,'Historical FS'!F24)/-'Historical FS'!F21),0) -> 12.642272 | G25: =IFERROR((SUM('Historical FS'!G18,'Historical FS'!G24)/-'Historical FS'!G21),0) -> 13.491395 | H25: =IFERROR((SUM('Historical FS'!H18,'Historical FS'!H24)/-'Historical FS'!H21),0) -> 18.765759 | I25: =IFERROR((SUM('Historical FS'!I18,'Historical FS'!I24)/-'Historical FS'!I21),0) -> 19.796235 | J25: =IFERROR((SUM('Historical FS'!J18,'Historical FS'!J24)/-'Historical FS'!J21),0) -> 17.810808 | ... L25: =IFERROR((SUM('Historical FS'!L18,'Historical FS'!L24)/-'Historical FS'!L21),0) -> 6.473501 | N25: =IFERROR(AVERAGE(C25:L25),0) -> 12.997298 | O25: =IFERROR(MEDIAN(C25:L25),0) -> 14.090856
B27: Recevables Turnover Ratio | C27: =IFERROR('Historical FS'!C6/'Historical FS'!C60,0) -> 11.202235 | D27: =IFERROR('Historical FS'!D6/'Historical FS'!D60,0) -> 11.443244 | E27: =IFERROR('Historical FS'!E6/'Historical FS'!E60,0) -> 10.512973 | F27: =IFERROR('Historical FS'!F6/'Historical FS'!F60,0) -> 10.655352 | G27: =IFERROR('Historical FS'!G6/'Historical FS'!G60,0) -> 10.448087 | H27: =IFERROR('Historical FS'!H6/'Historical FS'!H60,0) -> 15.239361 | I27: =IFERROR('Historical FS'!I6/'Historical FS'!I60,0) -> 14.87801 | J27: =IFERROR('Historical FS'!J6/'Historical FS'!J60,0) -> 17.264991 | ... L27: =IFERROR('Historical FS'!L6/'Historical FS'!L60,0) -> 20.255809 | N27: =IFERROR(AVERAGE(C27:L27),0) -> 13.885668 | O27: =IFERROR(MEDIAN(C27:L27),0) -> 13.160627
B28: Creditor Turnover Ratio | C28: =IFERROR('Historical FS'!C6/'Historical FS'!C51,0) -> 2.8935794 | D28: =IFERROR('Historical FS'!D6/'Historical FS'!D51,0) -> 2.7125253 | E28: =IFERROR('Historical FS'!E6/'Historical FS'!E51,0) -> 2.8859281 | F28: =IFERROR('Historical FS'!F6/'Historical FS'!F51,0) -> 3.0115578 | G28: =IFERROR('Historical FS'!G6/'Historical FS'!G51,0) -> 3.137324 | H28: =IFERROR('Historical FS'!H6/'Historical FS'!H51,0) -> 2.8648685 | I28: =IFERROR('Historical FS'!I6/'Historical FS'!I51,0) -> 2.7484163 | J28: =IFERROR('Historical FS'!J6/'Historical FS'!J51,0) -> 2.8210998 | ... L28: =IFERROR('Historical FS'!L6/'Historical FS'!L51,0) -> 1.8669663 | N28: =IFERROR(AVERAGE(C28:L28),0) -> 2.6764464 | O28: =IFERROR(MEDIAN(C28:L28),0) -> 2.8429842
B29: Inventory Turnover | C29: =IFERROR('Historical FS'!C6/'Historical FS'!C61,0) -> 4.0739713 | D29: =IFERROR('Historical FS'!D6/'Historical FS'!D61,0) -> 4.6660266 | E29: =IFERROR('Historical FS'!E6/'Historical FS'!E61,0) -> 4.705726 | F29: =IFERROR('Historical FS'!F6/'Historical FS'!F61,0) -> 4.5081254 | G29: =IFERROR('Historical FS'!G6/'Historical FS'!G61,0) -> 5.6292355 | H29: =IFERROR('Historical FS'!H6/'Historical FS'!H61,0) -> 5.1583836 | I29: =IFERROR('Historical FS'!I6/'Historical FS'!I61,0) -> 5.4821598 | J29: =IFERROR('Historical FS'!J6/'Historical FS'!J61,0) -> 5.1017186 | ... L29: =IFERROR('Historical FS'!L6/'Historical FS'!L61,0) -> 4.8940946 | N29: =IFERROR(AVERAGE(C29:L29),0) -> 4.9710206 | O29: =IFERROR(MEDIAN(C29:L29),0) -> 4.9979066
B30: Fixed Asset Turnover | C30: =IFERROR('Historical FS'!C6/'Historical FS'!C54,0) -> 1.4236003 | D30: =IFERROR('Historical FS'!D6/'Historical FS'!D54,0) -> 1.4826499 | E30: =IFERROR('Historical FS'!E6/'Historical FS'!E54,0) -> 1.4204032 | F30: =IFERROR('Historical FS'!F6/'Historical FS'!F54,0) -> 1.475889 | G30: =IFERROR('Historical FS'!G6/'Historical FS'!G54,0) -> 0.82681768 | H30: =IFERROR('Historical FS'!H6/'Historical FS'!H54,0) -> 0.96497584 | I30: =IFERROR('Historical FS'!I6/'Historical FS'!I54,0) -> 0.98619135 | J30: =IFERROR('Historical FS'!J6/'Historical FS'!J54,0) -> 1.0545614 | ... L30: =IFERROR('Historical FS'!L6/'Historical FS'!L54,0) -> 0.82033949 | N30: =IFERROR(AVERAGE(C30:L30),0) -> 1.1240939 | O30: =IFERROR(MEDIAN(C30:L30),0) -> 1.0203764
B31: Capital Turnover Ratio | C31: =IFERROR('Historical FS'!C6/SUM('Historical FS'!C48:C49),0) -> 1.0623274 | D31: =IFERROR('Historical FS'!D6/SUM('Historical FS'!D48:D49),0) -> 1.0820445 | E31: =IFERROR('Historical FS'!E6/SUM('Historical FS'!E48:E49),0) -> 0.96924598 | F31: =IFERROR('Historical FS'!F6/SUM('Historical FS'!F48:F49),0) -> 0.98906255 | G31: =IFERROR('Historical FS'!G6/SUM('Historical FS'!G48:G49),0) -> 0.69761257 | H31: =IFERROR('Historical FS'!H6/SUM('Historical FS'!H48:H49),0) -> 0.79824019 | I31: =IFERROR('Historical FS'!I6/SUM('Historical FS'!I48:I49),0) -> 0.820593 | J31: =IFERROR('Historical FS'!J6/SUM('Historical FS'!J48:J49),0) -> 0.84680258 | ... L31: =IFERROR('Historical FS'!L6/SUM('Historical FS'!L48:L49),0) -> 0.88086743 | N31: =IFERROR(AVERAGE(C31:L31),0) -> 0.90938006 | O31: =IFERROR(MEDIAN(C31:L31),0) -> 0.91393589
B33: Days Sales Outstanding | C33: =IFERROR(365/C27,0) -> 32.582784 | D33: =IFERROR(365/D27,0) -> 31.896549 | E33: =IFERROR(365/E27,0) -> 34.719009 | F33: =IFERROR(365/F27,0) -> 34.255085 | G33: =IFERROR(365/G27,0) -> 34.934625 | H33: =IFERROR(365/H27,0) -> 23.951136 | I33: =IFERROR(365/I27,0) -> 24.532851 | J33: =IFERROR(365/J27,0) -> 21.141048 | ... L33: =IFERROR(365/L27,0) -> 18.019522 | N33: =IFERROR(AVERAGE(C33:L33),0) -> 27.755812 | O33: =IFERROR(MEDIAN(C33:L33),0) -> 28.2147
B34: Days Payables Outstanding | C34: =IFERROR(365/C28,0) -> 126.14135 | D34: =IFERROR(365/D28,0) -> 134.56096 | E34: =IFERROR(365/E28,0) -> 126.47578 | F34: =IFERROR(365/F28,0) -> 121.19973 | G34: =IFERROR(365/G28,0) -> 116.34119 | H34: =IFERROR(365/H28,0) -> 127.4055 | I34: =IFERROR(365/I28,0) -> 132.80376 | J34: =IFERROR(365/J28,0) -> 129.38217 | ... L34: =IFERROR(365/L28,0) -> 195.50433 | N34: =IFERROR(AVERAGE(C34:L34),0) -> 141.01222 | O34: =IFERROR(MEDIAN(C34:L34),0) -> 128.39383
B35: Days Inventory Outstanding | C35: =IFERROR(365/C29,0) -> 89.593169 | D35: =IFERROR(365/D29,0) -> 78.225015 | E35: =IFERROR(365/E29,0) -> 77.565077 | F35: =IFERROR(365/F29,0) -> 80.964918 | G35: =IFERROR(365/G29,0) -> 64.840066 | H35: =IFERROR(365/H29,0) -> 70.7586 | I35: =IFERROR(365/I29,0) -> 66.579599 | J35: =IFERROR(365/J29,0) -> 71.544519 | ... L35: =IFERROR(365/L29,0) -> 74.579679 | N35: =IFERROR(AVERAGE(C35:L35),0) -> 74.11259 | O35: =IFERROR(MEDIAN(C35:L35),0) -> 73.062099
B36: Cash Conversion Cycle | C36: =IFERROR(C33+C35-C34,0) -> -3.9653946 | D36: =IFERROR(D33+D35-D34,0) -> -24.439395 | E36: =IFERROR(E33+E35-E34,0) -> -14.191692 | F36: =IFERROR(F33+F35-F34,0) -> -5.9797283 | G36: =IFERROR(G33+G35-G34,0) -> -16.566498 | H36: =IFERROR(H33+H35-H34,0) -> -32.695761 | I36: =IFERROR(I33+I35-I34,0) -> -41.691306 | J36: =IFERROR(J33+J35-J34,0) -> -36.696599 | ... L36: =IFERROR(L33+L35-L34,0) -> -102.90513 | N36: =IFERROR(AVERAGE(C36:L36),0) -> -39.143816 | O36: =IFERROR(MEDIAN(C36:L36),0) -> -28.567578
B38: CFO/Sales | C38: =IFERROR('Historical FS'!C78/'Historical FS'!C6,0) -> 3.3394811 | D38: =IFERROR('Historical FS'!D78/'Historical FS'!D6,0) -> 5.3323893 | E38: =IFERROR('Historical FS'!E78/'Historical FS'!E6,0) -> 5.2134226 | F38: =IFERROR('Historical FS'!F78/'Historical FS'!F6,0) -> 5.2264359 | G38: =IFERROR('Historical FS'!G78/'Historical FS'!G6,0) -> 3.1335461 | H38: =IFERROR('Historical FS'!H78/'Historical FS'!H6,0) -> 2.0563126 | I38: =IFERROR('Historical FS'!I78/'Historical FS'!I6,0) -> 1.520341 | J38: =IFERROR('Historical FS'!J78/'Historical FS'!J6,0) -> 1.9322782 | ... L38: =IFERROR('Historical FS'!L78/'Historical FS'!L6,0) -> 0.8106798 | N38: =IFERROR(AVERAGE(C38:L38),0) -> 3.047208 | O38: =IFERROR(MEDIAN(C38:L38),0) -> 2.5949293
B39: CFO/Total Assets | C39: =IFERROR('Historical FS'!C78/'Historical FS'!C65,0) -> 2.239832 | D39: =IFERROR('Historical FS'!D78/'Historical FS'!D65,0) -> 3.7849071 | E39: =IFERROR('Historical FS'!E78/'Historical FS'!E65,0) -> 3.396627 | F39: =IFERROR('Historical FS'!F78/'Historical FS'!F65,0) -> 3.4831922 | G39: =IFERROR('Historical FS'!G78/'Historical FS'!G65,0) -> 1.634777 | H39: =IFERROR('Historical FS'!H78/'Historical FS'!H65,0) -> 1.1800184 | I39: =IFERROR('Historical FS'!I78/'Historical FS'!I65,0) -> 0.89636615 | J39: =IFERROR('Historical FS'!J78/'Historical FS'!J65,0) -> 1.1700346 | ... L39: =IFERROR('Historical FS'!L78/'Historical FS'!L65,0) -> 0.44871259 | N39: =IFERROR(AVERAGE(C39:L39),0) -> 1.9274702 | O39: =IFERROR(MEDIAN(C39:L39),0) -> 1.4073977
B40: CFO/Total Debt | C40: =IFERROR('Historical FS'!C78/'Historical FS'!C50,0) -> 16.367638 | D40: =IFERROR('Historical FS'!D78/'Historical FS'!D50,0) -> 45.961147 | E40: =IFERROR('Historical FS'!E78/'Historical FS'!E50,0) -> 33.282096 | F40: =IFERROR('Historical FS'!F78/'Historical FS'!F50,0) -> 33.213128 | G40: =IFERROR('Historical FS'!G78/'Historical FS'!G50,0) -> 19.037332 | H40: =IFERROR('Historical FS'!H78/'Historical FS'!H50,0) -> 14.604634 | I40: =IFERROR('Historical FS'!I78/'Historical FS'!I50,0) -> 13.378659 | J40: =IFERROR('Historical FS'!J78/'Historical FS'!J50,0) -> 16.645146 | ... L40: =IFERROR('Historical FS'!L78/'Historical FS'!L50,0) -> 5.9693733 | N40: =IFERROR(AVERAGE(C40:L40),0) -> 20.679929 | O40: =IFERROR(MEDIAN(C40:L40),0) -> 16.506392

Sheet Forecasting
B2: ='Data Sheet'!B1&" - "&'Data Sheet'!A17&" Forecasting" -> TATA CONSUMER PRODUCTS LTD - Sales Forecasting | G2: ='Data Sheet'!B1&" - "&'Historical FS'!B18&" Forecasting" -> TATA CONSUMER PRODUCTS LTD - EBITDA Forecasting | L2: ='Data Sheet'!B1&" - "&'Historical FS'!B38&" Forecasting" -> TATA CONSUMER PRODUCTS LTD - Earnings Per Share Forecasting
B3: Year Weight | C3: Year | D3: ='Data Sheet'!A17 -> Sales | E3: =D3&" Growth" -> Sales Growth | G3: Year Weight | H3: Year | I3: ='Historical FS'!B18 -> EBITDA | J3: =I3&" Growth" -> EBITDA Growth | L3: Year Weight | M3: Year | N3: EPS | O3: EPS Growth
B4: 1 | C4: ='Data Sheet'!B16 -> 42460 | D4: {=TRANSPOSE('Data Sheet'!B17:K17)} -> 6636.54 | G4: 1 | H4: ='Ratio Analysis'!C3 -> 42460 | I4: {=IFERROR(TRANSPOSE('Historical FS'!C18:L18),0)} -> 365.91 | L4: 1 | M4: =H4 -> 42460 | N4: {=TRANSPOSE('Historical FS'!C38:L38)} -> -1.0343302
B5: =B4+1 -> 2 | C5: =C4+365 -> 42825 | D5: 6779.55 | E5: =IFERROR(D5/D4-1,0) -> 0.021548879 | G5: =G4+1 -> 2 | H5: =H4+365 -> 42825 | I5: 791.13 | J5: =IFERROR(I5/I4-1,0) -> 1.162089 | L5: =L4+1 -> 2 | M5: =H5 -> 42825 | N5: 5.7255111 | O5: =IFERROR(N5/N4-1,0) -> -6.5354772
B6: =B5+1 -> 3 | C6: =C5+365 -> 43190 | D6: 6815.35 | E6: =IFERROR(D6/D5-1,0) -> 0.0052805865 | G6: =G5+1 -> 3 | H6: =H5+365 -> 43190 | I6: 838.91 | J6: =IFERROR(I6/I5-1,0) -> 0.060394625 | L6: =L5+1 -> 3 | M6: =H6 -> 43190 | N6: 7.5410436 | O6: =IFERROR(N6/N5-1,0) -> 0.31709527
B7: =B6+1 -> 4 | C7: =C6+365 -> 43555 | D7: 7251.5 | E7: =IFERROR(D7/D6-1,0) -> 0.063995246 | G7: =G6+1 -> 4 | H7: =H6+365 -> 43555 | I7: 785.91 | J7: =IFERROR(I7/I6-1,0) -> -0.063177218 | L7: =L6+1 -> 4 | M7: =H7 -> 43555 | N7: 5.3400977 | O7: =IFERROR(N7/N6-1,0) -> -0.29186225
B8: =B7+1 -> 5 | C8: =C7+365 -> 43920 | D8: 9637.42 | E8: =IFERROR(D8/D7-1,0) -> 0.32902434 | G8: =G7+1 -> 5 | H8: =H7+365 -> 43920 | I8: 1292.15 | J8: =IFERROR(I8/I7-1,0) -> 0.644145 | L8: =L7+1 -> 5 | M8: =H8 -> 43920 | N8: 7.2977011 | O8: =IFERROR(N8/N7-1,0) -> 0.36658571
B9: =B8+1 -> 6 | C9: =C8+365 -> 44285 | D9: 11602.03 | E9: =IFERROR(D9/D8-1,0) -> 0.20385228 | G9: =G8+1 -> 6 | H9: =H8+365 -> 44285 | I9: 1543.76 | J9: =IFERROR(I9/I8-1,0) -> 0.19472198 | L9: =L8+1 -> 6 | M9: =H9 -> 44285 | N9: 9.4363636 | O9: =IFERROR(N9/N8-1,0) -> 0.29305975
B10: =B9+1 -> 7 | C10: =C9+365 -> 44650 | D10: 12425.37 | E10: =IFERROR(D10/D9-1,0) -> 0.070965167 | G10: =G9+1 -> 7 | H10: =H9+365 -> 44650 | I10: 1718.78 | J10: =IFERROR(I10/I9-1,0) -> 0.11337254 | L10: =L9+1 -> 7 | M10: =H10 -> 44650 | N10: 10.354754 | O10: =IFERROR(N10/N9-1,0) -> 0.097324652
B11: =B10+1 -> 8 | C11: =C10+365 -> 45015 | D11: 13783.16 | E11: =IFERROR(D11/D10-1,0) -> 0.10927562 | G11: =G10+1 -> 8 | H11: =H10+365 -> 45015 | I11: 1856.47 | J11: =IFERROR(I11/I10-1,0) -> 0.080109147 | L11: =L10+1 -> 8 | M11: =H11 -> 45015 | N11: 10.554473 | O11: =IFERROR(N11/N10-1,0) -> 0.019287609
B12: =B11+1 -> 9 | C12: =C11+365 -> 45380 | D12: 15205.85 | E12: =IFERROR(D12/D11-1,0) -> 0.10321944 | G12: =G11+1 -> 9 | H12: =H11+365 -> 45380 | I12: 2284.1 | J12: =IFERROR(I12/I11-1,0) -> 0.23034576 | L12: =L11+1 -> 9 | M12: =H12 -> 45380 | N12: 13.970793 | O12: =IFERROR(N12/N11-1,0) -> 0.32368461
B13: =B12+1 -> 10 | C13: =C12+365 -> 45745 | D13: 17618.3 | E13: =IFERROR(D13/D12-1,0) -> 0.15865276 | G13: =G12+1 -> 10 | H13: =H12+365 -> 45745 | I13: 2479.35 | J13: =IFERROR(I13/I12-1,0) -> 0.085482247 | L13: =L12+1 -> 10 | M13: =H13 -> 45745 | N13: 12.048206 | O13: =IFERROR(N13/N12-1,0) -> -0.13761475
B14: =B13+1 -> 11 | C14: =C13+365 -> 46110 | D14: =FORECAST(B14,_xlfn.ANCHORARRAY($D$4),$B$4:$B$13) -> 17780.347 | E14: =IFERROR(D14/D13-1,0) -> 0.0091976714 | G14: =G13+1 -> 11 | H14: =H13+365 -> 46110 | I14: =FORECAST(G14,_xlfn.ANCHORARRAY($I$4),$G$4:$G$13) -> 2649.306 | J14: =IFERROR(I14/I13-1,0) -> 0.068548612 | L14: =L13+1 -> 11 | M14: =H14 -> 46110 | N14: =FORECAST(L14,_xlfn.ANCHORARRAY($N$4),$L$4:$L$13) -> 15.047114 | O14: =IFERROR(N14/N13-1,0) -> 0.24890908
B15: =B14+1 -> 12 | C15: =C14+365 -> 46475 | D15: =FORECAST(B15,_xlfn.ANCHORARRAY($D$4),$B$4:$B$13) -> 19053.955 | E15: =IFERROR(D15/D14-1,0) -> 0.071630059 | G15: =G14+1 -> 12 | H15: =H14+365 -> 46475 | I15: =FORECAST(G15,_xlfn.ANCHORARRAY($I$4),$G$4:$G$13) -> 2877.244 | J15: =IFERROR(I15/I14-1,0) -> 0.086036872 | L15: =L14+1 -> 12 | M15: =H15 -> 46475 | N15: =FORECAST(L15,_xlfn.ANCHORARRAY($N$4),$L$4:$L$13) -> 16.30596 | O15: =IFERROR(N15/N14-1,0) -> 0.083660291
B16: =B15+1 -> 13 | C16: =C15+365 -> 46840 | D16: =FORECAST(B16,_xlfn.ANCHORARRAY($D$4),$B$4:$B$13) -> 20327.562 | E16: =IFERROR(D16/D15-1,0) -> 0.066842152 | G16: =G15+1 -> 13 | H16: =H15+365 -> 46840 | I16: =FORECAST(G16,_xlfn.ANCHORARRAY($I$4),$G$4:$G$13) -> 3105.182 | J16: =IFERROR(I16/I15-1,0) -> 0.079220949 | L16: =L15+1 -> 13 | M16: =H16 -> 46840 | N16: =FORECAST(L16,_xlfn.ANCHORARRAY($N$4),$L$4:$L$13) -> 17.564806 | O16: =IFERROR(N16/N15-1,0) -> 0.077201584
B17: =B16+1 -> 14 | C17: =C16+365 -> 47205 | D17: =FORECAST(B17,_xlfn.ANCHORARRAY($D$4),$B$4:$B$13) -> 21601.169 | E17: =IFERROR(D17/D16-1,0) -> 0.06265421 | G17: =G16+1 -> 14 | H17: =H16+365 -> 47205 | I17: =FORECAST(G17,_xlfn.ANCHORARRAY($I$4),$G$4:$G$13) -> 3333.12 | J17: =IFERROR(I17/I16-1,0) -> 0.073405681 | L17: =L16+1 -> 14 | M17: =H17 -> 47205 | N17: =FORECAST(L17,_xlfn.ANCHORARRAY($N$4),$L$4:$L$13) -> 18.823652 | O17: =IFERROR(N17/N16-1,0) -> 0.071668651
B18: =B17+1 -> 15 | C18: =C17+365 -> 47570 | D18: =FORECAST(B18,_xlfn.ANCHORARRAY($D$4),$B$4:$B$13) -> 22874.777 | E18: =IFERROR(D18/D17-1,0) -> 0.058960111 | G18: =G17+1 -> 15 | H18: =H17+365 -> 47570 | I18: =FORECAST(G18,_xlfn.ANCHORARRAY($I$4),$G$4:$G$13) -> 3561.058 | J18: =IFERROR(I18/I17-1,0) -> 0.068385777 | L18: =L17+1 -> 15 | M18: =H18 -> 47570 | N18: =FORECAST(L18,_xlfn.ANCHORARRAY($N$4),$L$4:$L$13) -> 20.082498 | O18: =IFERROR(N18/N17-1,0) -> 0.066875756

Sheet Data Sheet
A1: COMPANY NAME | B1: TATA CONSUMER PRODUCTS LTD
A2: LATEST VERSION | B2: 2.1 | E2: PLEASE DO NOT MAKE ANY CHANGES TO THIS SHEET
A3: CURRENT VERSION | B3: 2.1
A5: META
A6: Number of shares | B6: 358.59
A7: Face Value | B7: 1
A8: Current Price | B8: 1093.7
A9: Market Capitalization | B9: 108228.37
A15: PROFIT & LOSS | B15: 32432.08 | K15: 29129.19
A16: Report Date | B16: 42460 | C16: 42825 | D16: 43190 | E16: 43555 | F16: 43921 | G16: 44286 | H16: 44651 | I16: 45016 | J16: 45382 | K16: 45747
A17: Sales | B17: 6636.54 | C17: 6779.55 | D17: 6815.35 | E17: 7251.5 | F17: 9637.42 | G17: 11602.03 | H17: 12425.37 | I17: 13783.16 | J17: 15205.85 | K17: 17618.3
A18: Raw Material Cost | B18: 3601.49 | C18: 3165.65 | D18: 3746.11 | E18: 4022.05 | F18: 5402.9 | G18: 6367.79 | H18: 6323.22 | I18: 7107.06 | J18: 7364.06 | K18: 8986.68
A19: Change in Inventory | B19: -20.11 | C19: 0.69 | D19: 46.8 | E19: 14.41 | F19: -7.78 | G19: 149.54 | H19: 39.78 | I19: 273.88 | J19: 121.6 | K19: 362.49
A20: Power and Fuel | B20: 81.26 | C20: 83.19 | D20: 87.07 | E20: 89.28 | F20: 103.84 | G20: 97.36 | H20: 123.9 | I20: 149.43 | J20: 156.9 | K20: 156.21
A21: Other Mfr. Exp | B21: 190.32 | C21: 597.61 | D21: 194.69 | E21: 209.59 | F21: 238.47 | G21: 941.75 | H21: 1139.59 | I21: 1578.2 | J21: 1696.28 | K21: 1882.25
A22: Employee Cost | B22: 805.06 | C22: 834.95 | D22: 821.37 | E22: 806.3 | F22: 884.8 | G22: 970.23 | H22: 1048 | I22: 1120.36 | J22: 1258.59 | K22: 1430.1
A23: Selling and admin | B23: 922.88 | C23: 926.92 | D23: 857.64 | E23: 968.23 | F23: 1278.16 | G23: 1421.46 | H23: 1691.83 | I23: 1785.26 | J23: 1927.15 | K23: 2253.37
A24: Other Expenses | B24: 649.51 | C24: 380.79 | D24: 316.36 | E24: 384.55 | F24: 429.32 | G24: 409.22 | H24: 419.83 | I24: 460.26 | J24: 640.37 | K24: 792.83
A25: Other Income | B25: 37.54 | C25: 88.4 | D25: 73.02 | E25: 123.84 | F25: -163.2 | G25: 90.73 | H25: 88 | I25: 328.33 | J25: -81.42 | K25: 188.14
A26: Depreciation | B26: 116.79 | C26: 126.04 | D26: 116.04 | E26: 122.57 | F26: 241.71 | G26: 254.74 | H26: 278.01 | I26: 304.08 | J26: 377.15 | K26: 600.74
A27: Interest | B27: 116.9 | C27: 91.53 | D27: 42.76 | E27: 52.47 | F27: 77.86 | G27: 68.69 | H27: 72.78 | I27: 87.16 | J27: 129.81 | K27: 290.2
... A34: EBITDA | B34: 24830.8 | C34: 34583.41 | D34: 39879.32 | E34: 36204.22 | F34: 32848.59 | G34: 39566.22 | H34: -1914.45 | I34: 16993.16 | J34: 20734.35 | K34: 26937.37
A40: Quarters
A41: Report Date | B41: 45199 | C41: 45291 | D41: 45382 | E41: 45473 | F41: 45565 | G41: 45657 | H41: 45747 | I41: 45838 | J41: 45930 | K41: 46022
A42: Sales | B42: 3733.78 | C42: 3803.92 | D42: 3926.94 | E42: 4352.07 | F42: 4214.45 | G42: 4443.56 | H42: 4608.22 | I42: 4778.91 | J42: 4965.9 | K42: 5112
A43: Expenses | B43: 3196.69 | C43: 3231.54 | D43: 3297.34 | E43: 3684.69 | F43: 3588.16 | G43: 3878.83 | H43: 3987.27 | I43: 4171.97 | J43: 4294.12 | K43: 4391.33
A44: Other Income | B44: 75.28 | C44: -31.94 | D44: -177.35 | E44: 22.07 | F44: 18.8 | G44: 45.44 | H44: 101.83 | I44: 41.17 | J44: 38.01 | K44: 10.15
A45: Depreciation | B45: 93.93 | C45: 85.51 | D45: 115.76 | E45: 148 | F45: 149.33 | G45: 150.32 | H45: 153.09 | I45: 148.93 | J45: 153.28 | K45: 159.29
A46: Interest | B46: 27.56 | C46: 33.19 | D46: 42.83 | E46: 93.6 | F46: 98.69 | G46: 57.92 | H46: 39.99 | I46: 33.76 | J46: 33.23 | K46: 31.62
A47: Profit before tax | B47: 490.88 | C47: 421.74 | D47: 293.66 | E47: 447.85 | F47: 397.07 | G47: 401.93 | H47: 529.7 | I47: 465.42 | J47: 523.28 | K47: 539.91
A48: Tax | B48: 131.7 | C48: 106.21 | D48: 25.95 | E48: 133.7 | F48: 37.73 | G48: 102.18 | H48: 122.63 | I48: 118.98 | J48: 126.23 | K48: 137.12
A49: Net profit | B49: 338.24 | C49: 278.87 | D49: 216.63 | E49: 290.32 | F49: 364.42 | G49: 278.88 | H49: 344.85 | I49: 334.15 | J49: 404.46 | K49: 384.61
A50: Operating Profit | B50: 537.09 | C50: 572.38 | D50: 629.6 | E50: 667.38 | F50: 626.29 | G50: 564.73 | H50: 620.95 | I50: 606.94 | J50: 671.78 | K50: 720.67
A51: EBITDA | B51: 1238.68 | C51: 6765.23 | D51: 12106.31 | E51: 624.13 | F51: 5696.47 | G51: 5014.11 | H51: 7688.78 | I51: 8538.01 | J51: 4774.12 | K51: 6982.91
A55: BALANCE SHEET
A56: Report Date | B56: 42460 | C56: 42825 | D56: 43190 | E56: 43555 | F56: 43921 | G56: 44286 | H56: 44651 | I56: 45016 | J56: 45382 | K56: 45747
A57: Equity Share Capital | B57: 63.11 | C57: 63.11 | D57: 63.11 | E57: 63.11 | F57: 92.16 | G57: 92.16 | H57: 92.16 | I57: 92.9 | J57: 95.28 | K57: 98.95
A58: Reserves | B58: 6184.06 | C58: 6202.39 | D58: 6968.49 | E58: 7268.58 | F58: 13722.7 | G58: 14442.35 | H58: 15049.78 | I58: 16183.81 | J58: 15961.51 | K58: 19902.13
A59: Borrowings | B59: 1354.05 | C59: 786.56 | D59: 1067.58 | E59: 1141.1 | F59: 1586.32 | G59: 1633.55 | H59: 1412.01 | I59: 1600.04 | J59: 3477.22 | K59: 2392.68
A60: Other Liabilities | B60: 2293.54 | C60: 2499.35 | D60: 2361.58 | E60: 2407.89 | F60: 3071.86 | G60: 4049.76 | H60: 4520.92 | I60: 4885.74 | J60: 8344.78 | K60: 9436.86
...

Sheet Cash Flow Data
C2: 40603 | D2: 40969 | E2: 41334 | F2: 41699 | G2: 42064 | H2: 42430 | I2: 42795 | J2: 43160 | K2: 43525 | L2: 43891 | M2: 44256 | N2: 44621
B3: Cash from Operating Activity - | C3: 11240 | D3: 18384 | E3: 22163 | F3: 36151 | G3: 35531 | H3: 37900 | I3: 30199 | J3: 23857 | K3: 18891 | L3: 26633 | M3: 29001 | N3: 14283
B4: Profit from operations | C4: 16680 | D4: 22432 | E4: 24406.6 | F4: 36303.2 | G4: 43396.3 | H4: 38626.5 | I4: 28839.3 | J4: 33312.4 | K4: 28769.8 | L4: 23351.9 | M4: 31198.5 | N4: 26666.8
B5: Receivables | C5: -1422 | D5: -6659 | E5: -5177 | F5: 445 | G5: -3179 | H5: -2223 | I5: -4152 | J5: -10688 | K5: -9109 | L5: 9950 | M5: -5505 | N5: 337
B6: Inventory | C6: -2411 | D6: -2719 | E6: -2656 | F6: -2853 | G6: -3692 | H6: -5743 | I6: -6621 | J6: -3560 | K6: 2069 | L6: 2326 | M6: 3814 | N6: 597
B7: Payables | C7: 344 | D7: 5867 | E7: 8132 | F7: 4694 | G7: 3598 | H7: 3947 | I7: 9301 | J7: 7320 | K7: -4692 | L7: -8085 | M7: 5748 | N7: -7012
B8: Loans Advances | C8: 0 | D8: 0 | E8: 0 | F8: 0 | G8: 0 | H8: -520 | I8: 0 | J8: 0 | K8: 0 | L8: 0 | M8: 0 | N8: 0
B9: Other WC items | C9: -559 | D9: 1231 | E9: -303 | F9: 1870 | G9: -398 | H9: 5852 | I9: 4727 | J9: 494 | K9: 4512 | L9: 875 | M9: -4150 | N9: -4396
B10: Working capital changes | C10: -4048 | D10: -2280 | E10: -3 | F10: 4157 | G10: -3672 | H10: 1313 | I10: 3254 | J10: -6434 | K10: -7221 | L10: 5065 | M10: -93 | N10: -10474
B11: Direct taxes | C11: -1391 | D11: -1768 | E11: -2240 | F11: -4308 | G11: -4194 | H11: -2040 | I11: -1895 | J11: -3021 | K11: -2659 | L11: -1785 | M11: -2105 | N11: -1910
B12: Cash from Investing Activity - | C12: -7023 | D12: -19464 | E12: -22969 | F12: -27991 | G12: -36232 | H12: -36694 | I12: -39571 | J12: -25139 | K12: -20878 | L12: -33115 | M12: -25672 | N12: -4444
B13: Fixed assets purchased | C13: -8124 | D13: -13876 | E13: -18863.5 | F13: -26974.9 | G13: -31961.4 | H13: -31502.9 | I13: -16071.4 | J13: -35078.1 | K13: -35303.1 | L13: -29700.6 | M13: -20206.5 | N13: -15169.7
B14: Fixed assets sold | C14: 11 | D14: 93 | E14: 37 | F14: 50 | G14: 74 | H14: 59 | I14: 53 | J14: 30 | K14: 67 | L14: 171 | M14: 351 | N14: 230
... B35: Net Cash Flow | C35: 2815 | D35: 5488 | E35: -2499 | F35: 4277 | G35: 4500 | H35: -2589 | I35: -3167 | J35: 730 | K35: 6843 | L35: -3092 | M35: 13232 | N35: 6459
